BEGIN:VCALENDAR
VERSION:2.0
PRODID:-//Brain Injury SA - ECPv4.9.1.1//NONSGML v1.0//EN
CALSCALE:GREGORIAN
METHOD:PUBLISH
X-WR-CALNAME:Brain Injury SA
X-ORIGINAL-URL:https://braininjurysa.org.au
X-WR-CALDESC:Events for Brain Injury SA
BEGIN:VEVENT
DTSTART;TZID=Australia/Adelaide:20210303T103000
DTEND;TZID=Australia/Adelaide:20210303T123000
DTSTAMP:20210227T065609
CREATED:20210203T055204Z
LAST-MODIFIED:20210203T055204Z
UID:16276-1614767400-1614774600@braininjurysa.org.au
SUMMARY:The BISE Group
DESCRIPTION:The BISE Group (Brain Injury Support and Education) is a free peer-support program run from Brain Injury SA’s Central Hub.\n \nHeld on the first Wednesday of every month\, sessions go for two-hours and a different topic is covered each time (see below for an outline of topics for 2021). The BISE Group has a relaxed atmosphere and is a fantastic opportunity for meeting people and forming new connections. Participants also benefit from the learning and sharing of practical tips for managing challenges associated with acquired brain injury and improving wellbeing. \nFirst Wednesday of the month. \nFree to all – No eligibility requirements.\n \nRegistration is essential.\nPlease RSVP to Ed Weaver 8217 7600 or edward@braininjurysa.org.au \nRegister Today \n  \nThe BISE Group 2021 Topics:\nJanuary 20th – Setting Up For Success In 2021\nFebruary 3rd – Employment after ABI\nMarch 3rd – Social Communication\nApril 7th – Getting in Touch with Nature\nMay 5th – Creative Expression\nJune 2nd – Mindfulness\nJuly 7th – Getting a Good Night’s Sleep\nAugust 4th – Nutrition and the Brain\nSeptember 1st – Technology\nOctober 6th – Exercise\nNovember 3rd – Gardening\nDecember 1st – Preparing for the Festive Season \n  \nDownload BISE Group Flyer \n  \nFor more information\, view BISE Group 2021 Program Overview \n
URL:https://braininjurysa.org.au/event/the-bise-group-6/2021-03-03/
LOCATION:Brain Injury SA\, 70 Light Square\, Adelaide\, SA\, 5000\, Australia
GEO:-34.9255343;138.5946787
X-APPLE-STRUCTURED-LOCATION;VALUE=URI;X-ADDRESS=Brain Injury SA 70 Light Square Adelaide SA 5000 Australia;X-APPLE-RADIUS=500;X-TITLE=70 Light Square:geo:138.5946787,-34.9255343
CATEGORIES:The BISE Group
ORGANIZER;CN="Brain%20Injury%20SA":MAILTO:info@braininjurysa.org.au
END:VEVENT
END:VCALENDAR